BEGIN:VCALENDAR
VERSION:2.0
PRODID:-//Massachusetts Association of Vocational Administrators - ECPv6.15.20//NONSGML v1.0//EN
CALSCALE:GREGORIAN
METHOD:PUBLISH
X-ORIGINAL-URL:https://mava.us
X-WR-CALDESC:Events for Massachusetts Association of Vocational Administrators
REFRESH-INTERVAL;VALUE=DURATION:PT1H
X-Robots-Tag:noindex
X-PUBLISHED-TTL:PT1H
BEGIN:VTIMEZONE
TZID:America/New_York
BEGIN:DAYLIGHT
TZOFFSETFROM:-0500
TZOFFSETTO:-0400
TZNAME:EDT
DTSTART:20250309T070000
END:DAYLIGHT
BEGIN:STANDARD
TZOFFSETFROM:-0400
TZOFFSETTO:-0500
TZNAME:EST
DTSTART:20251102T060000
END:STANDARD
BEGIN:DAYLIGHT
TZOFFSETFROM:-0500
TZOFFSETTO:-0400
TZNAME:EDT
DTSTART:20260308T070000
END:DAYLIGHT
BEGIN:STANDARD
TZOFFSETFROM:-0400
TZOFFSETTO:-0500
TZNAME:EST
DTSTART:20261101T060000
END:STANDARD
BEGIN:DAYLIGHT
TZOFFSETFROM:-0500
TZOFFSETTO:-0400
TZNAME:EDT
DTSTART:20270314T070000
END:DAYLIGHT
BEGIN:STANDARD
TZOFFSETFROM:-0400
TZOFFSETTO:-0500
TZNAME:EST
DTSTART:20271107T060000
END:STANDARD
END:VTIMEZONE
BEGIN:VEVENT
DTSTART;TZID=America/New_York:20260501T090000
DTEND;TZID=America/New_York:20260501T100000
DTSTAMP:20260425T085626
CREATED:20260305T142101Z
LAST-MODIFIED:20260305T142101Z
UID:2197-1777626000-1777629600@mava.us
SUMMARY:Board of Directors Meeting
DESCRIPTION:
URL:https://mava.us/event/board-of-directors-meeting-15/
LOCATION:SkillsUSA Mass. / Blackstone Valley Regional Vocational Tech\, 65 Pleasant Street\, Upton\, MA\, 01568\, United States
CATEGORIES:Meeting
END:VEVENT
END:VCALENDAR